BEGIN:VCALENDAR
VERSION:2.0
PRODID:-//Culturele Raad Smilde - ECPv6.15.20//NONSGML v1.0//EN
CALSCALE:GREGORIAN
METHOD:PUBLISH
X-ORIGINAL-URL:https://cultureleraadsmilde.nl
X-WR-CALDESC:Evenementen voor Culturele Raad Smilde
REFRESH-INTERVAL;VALUE=DURATION:PT1H
X-Robots-Tag:noindex
X-PUBLISHED-TTL:PT1H
BEGIN:VTIMEZONE
TZID:Europe/Amsterdam
BEGIN:DAYLIGHT
TZOFFSETFROM:+0100
TZOFFSETTO:+0200
TZNAME:CEST
DTSTART:20250330T010000
END:DAYLIGHT
BEGIN:STANDARD
TZOFFSETFROM:+0200
TZOFFSETTO:+0100
TZNAME:CET
DTSTART:20251026T010000
END:STANDARD
BEGIN:DAYLIGHT
TZOFFSETFROM:+0100
TZOFFSETTO:+0200
TZNAME:CEST
DTSTART:20260329T010000
END:DAYLIGHT
BEGIN:STANDARD
TZOFFSETFROM:+0200
TZOFFSETTO:+0100
TZNAME:CET
DTSTART:20261025T010000
END:STANDARD
BEGIN:DAYLIGHT
TZOFFSETFROM:+0100
TZOFFSETTO:+0200
TZNAME:CEST
DTSTART:20270328T010000
END:DAYLIGHT
BEGIN:STANDARD
TZOFFSETFROM:+0200
TZOFFSETTO:+0100
TZNAME:CET
DTSTART:20271031T010000
END:STANDARD
END:VTIMEZONE
BEGIN:VEVENT
DTSTART;TZID=Europe/Amsterdam:20260220T203000
DTEND;TZID=Europe/Amsterdam:20260220T235900
DTSTAMP:20260420T161234
CREATED:20260116T111008Z
LAST-MODIFIED:20260208T102941Z
UID:7806-1771619400-1771631940@cultureleraadsmilde.nl
SUMMARY:Muziek - Vermilion
DESCRIPTION:Vermilion brengt de gouden hits van de jaren ’70\, ’80 en ’90 tot leven met een frisse\, jonge twist! Deze energieke zeskoppige band laat je losgaan op klassiekers van rock\, pop\, en R&B/soul\, maar altijd met een unieke vibe. Verwacht strakke grooves\, meeslepende melodieën\, en een dynamische show vol energie en passie. Of je nu fan bent van iconische gitaar solo’s\, funky baslijnen of meeslepende zang\, Vermilion weet het publiek keer op keer in beweging te krijgen! \nIn de setlist van Vermilion staan nummers van Toto\, Heart\, The Police\, ABBA\, Fleetwood Mac\, Tina Tuner\, Stevie Wonder\, Michael Jackson\, Robbie Williams en nog veel meer iconische artiesten! \nDe band Vermilion is een 6 koppige band\, 2 zangeressen en 4 muzikanten \nMeer weten over de band Vermilion >\nDatum  : 20 februari 2026Plaats   : Dorpshuis SmildeAanvang      : 20:30 uurDeuren open: 20:00 uur \nMunten te koop voor € 2\,00 per stuk \nVoorkom wachtrijen aan de kassa koop je kaarten online \nTickets : via onderstaand knop \n  \n			\n				Tickets
URL:https://cultureleraadsmilde.nl/event/muziek-vermilion/
LOCATION:Dorpshuis Smilde\, Beukenlaan 1A\, ingang Beukenlaan\, Smilde\, 9422ES\, Nederland
CATEGORIES:Concerten
ATTACH;FMTTYPE=image/jpeg:https://cultureleraadsmilde.nl/wp-content/uploads/2025/12/band-leden-Vermilion.jpg
ORGANIZER;CN="CRAS":MAILTO:info@cultureleraadsmilde.nl
END:VEVENT
END:VCALENDAR