BEGIN:VCALENDAR
VERSION:2.0
PRODID:-//Culturele Raad Smilde - ECPv6.15.20//NONSGML v1.0//EN
CALSCALE:GREGORIAN
METHOD:PUBLISH
X-ORIGINAL-URL:https://cultureleraadsmilde.nl
X-WR-CALDESC:Evenementen voor Culturele Raad Smilde
REFRESH-INTERVAL;VALUE=DURATION:PT1H
X-Robots-Tag:noindex
X-PUBLISHED-TTL:PT1H
BEGIN:VTIMEZONE
TZID:Europe/Amsterdam
BEGIN:DAYLIGHT
TZOFFSETFROM:+0100
TZOFFSETTO:+0200
TZNAME:CEST
DTSTART:20240331T010000
END:DAYLIGHT
BEGIN:STANDARD
TZOFFSETFROM:+0200
TZOFFSETTO:+0100
TZNAME:CET
DTSTART:20241027T010000
END:STANDARD
BEGIN:DAYLIGHT
TZOFFSETFROM:+0100
TZOFFSETTO:+0200
TZNAME:CEST
DTSTART:20250330T010000
END:DAYLIGHT
BEGIN:STANDARD
TZOFFSETFROM:+0200
TZOFFSETTO:+0100
TZNAME:CET
DTSTART:20251026T010000
END:STANDARD
BEGIN:DAYLIGHT
TZOFFSETFROM:+0100
TZOFFSETTO:+0200
TZNAME:CEST
DTSTART:20260329T010000
END:DAYLIGHT
BEGIN:STANDARD
TZOFFSETFROM:+0200
TZOFFSETTO:+0100
TZNAME:CET
DTSTART:20261025T010000
END:STANDARD
END:VTIMEZONE
BEGIN:VEVENT
DTSTART;TZID=Europe/Amsterdam:20250415T200000
DTEND;TZID=Europe/Amsterdam:20250415T220000
DTSTAMP:20260421T122643
CREATED:20250311T095051Z
LAST-MODIFIED:20250311T100103Z
UID:7462-1744747200-1744754400@cultureleraadsmilde.nl
SUMMARY:Lezing - Na De Oorlog
DESCRIPTION:Het nieuwe boek van schrijver Saskia Goldschmidt heet Na de oorlog. Hoe kinderen van overlevenden de Tweede Wereldoorlog met zich meedragen. Hierin beschrijft Goldschmidt tien familieverhalen van kinderen en kleinkinderen van Shoa-overlevenden en de manier waarop hun familiegeschiedenis hen beïnvloed heeft. \nOp deze avond vertelt Goldschmidt haar familieverhaal en ze gaat in op de reacties op dit verhaal van leerlingen als ze dit vertelt op scholen\, voor de organisatie Na de Oorlog. Ook komen er andere verhalen uit het boek aan bod. Onder meer van oud-burgemeester en PVDA-voorzitter Job Cohen\, Gerrit Jan Weiler\, de kleinzoon van de verzetsstrijder Gerrit van der Veen en Simone Haller\, de kleindochter van de beroemde bloemenverkoopster op het Rembrandtplein in Amsterdam. \nHet wordt een avond over de impact van de Shoa\, een heftig onderwerp. Maar het is ook een avond over veerkracht\, overlevingsdrift en over hoe vreselijke ervaringen een breekijzer kunnen vormen voor een gesprek met jongeren en volwassenen van nu over uitsluiting\, racisme\, antisemitisme\, en moslimhaat. \nDatum  : 15 april 2025Plaats   :  Waterstaatskerk BovensmildeTijd       : 20:00 uurInloop vanaf 19.30 uur \nPauze met koffie en theeNa afloop is er een signeersessie \nOpgave : via onderstaand knop \n  \n			\n				Aanmelden
URL:https://cultureleraadsmilde.nl/event/lezing-na-de-oorlog/
LOCATION:Waterstaatskerk Bovensmilde\, Hoofdweg 186\, Bovensmilde\, Drenthe\, 9421PD\, Nederland
CATEGORIES:Lezingen
ATTACH;FMTTYPE=image/jpeg:https://cultureleraadsmilde.nl/wp-content/uploads/2025/03/lezing-na-de-oorlog.jpg
ORGANIZER;CN="Cras en Bibliotheek Smilde":MAILTO:info@cultureleraadsmilde.nl
END:VEVENT
END:VCALENDAR