BEGIN:VCALENDAR
VERSION:2.0
PRODID:-//Culturele Raad Smilde - ECPv6.15.20//NONSGML v1.0//EN
CALSCALE:GREGORIAN
METHOD:PUBLISH
X-ORIGINAL-URL:https://cultureleraadsmilde.nl
X-WR-CALDESC:Evenementen voor Culturele Raad Smilde
REFRESH-INTERVAL;VALUE=DURATION:PT1H
X-Robots-Tag:noindex
X-PUBLISHED-TTL:PT1H
BEGIN:VTIMEZONE
TZID:Europe/Amsterdam
BEGIN:DAYLIGHT
TZOFFSETFROM:+0100
TZOFFSETTO:+0200
TZNAME:CEST
DTSTART:20230326T010000
END:DAYLIGHT
BEGIN:STANDARD
TZOFFSETFROM:+0200
TZOFFSETTO:+0100
TZNAME:CET
DTSTART:20231029T010000
END:STANDARD
BEGIN:DAYLIGHT
TZOFFSETFROM:+0100
TZOFFSETTO:+0200
TZNAME:CEST
DTSTART:20240331T010000
END:DAYLIGHT
BEGIN:STANDARD
TZOFFSETFROM:+0200
TZOFFSETTO:+0100
TZNAME:CET
DTSTART:20241027T010000
END:STANDARD
BEGIN:DAYLIGHT
TZOFFSETFROM:+0100
TZOFFSETTO:+0200
TZNAME:CEST
DTSTART:20250330T010000
END:DAYLIGHT
BEGIN:STANDARD
TZOFFSETFROM:+0200
TZOFFSETTO:+0100
TZNAME:CET
DTSTART:20251026T010000
END:STANDARD
END:VTIMEZONE
BEGIN:VEVENT
DTSTART;TZID=Europe/Amsterdam:20241011T170000
DTEND;TZID=Europe/Amsterdam:20241012T190000
DTSTAMP:20260420T193529
CREATED:20241009T075211Z
LAST-MODIFIED:20241009T080724Z
UID:7305-1728666000-1728759600@cultureleraadsmilde.nl
SUMMARY:Huiskamerfestival Bovensmilde
DESCRIPTION:Meer info & TIckets
URL:https://cultureleraadsmilde.nl/event/huiskamerfestival-bovensmilde/
CATEGORIES:Concerten
ATTACH;FMTTYPE=image/jpeg:https://cultureleraadsmilde.nl/wp-content/uploads/2024/10/huiskamerfestival-bovensmilde.jpg
END:VEVENT
END:VCALENDAR