BEGIN:VCALENDAR
VERSION:2.0
PRODID:-//Culturele Raad Smilde - ECPv6.15.20//NONSGML v1.0//EN
CALSCALE:GREGORIAN
METHOD:PUBLISH
X-WR-CALNAME:Culturele Raad Smilde
X-ORIGINAL-URL:https://cultureleraadsmilde.nl
X-WR-CALDESC:Evenementen voor Culturele Raad Smilde
REFRESH-INTERVAL;VALUE=DURATION:PT1H
X-Robots-Tag:noindex
X-PUBLISHED-TTL:PT1H
BEGIN:VTIMEZONE
TZID:Europe/Amsterdam
BEGIN:DAYLIGHT
TZOFFSETFROM:+0100
TZOFFSETTO:+0200
TZNAME:CEST
DTSTART:20210328T010000
END:DAYLIGHT
BEGIN:STANDARD
TZOFFSETFROM:+0200
TZOFFSETTO:+0100
TZNAME:CET
DTSTART:20211031T010000
END:STANDARD
BEGIN:DAYLIGHT
TZOFFSETFROM:+0100
TZOFFSETTO:+0200
TZNAME:CEST
DTSTART:20220327T010000
END:DAYLIGHT
BEGIN:STANDARD
TZOFFSETFROM:+0200
TZOFFSETTO:+0100
TZNAME:CET
DTSTART:20221030T010000
END:STANDARD
BEGIN:DAYLIGHT
TZOFFSETFROM:+0100
TZOFFSETTO:+0200
TZNAME:CEST
DTSTART:20230326T010000
END:DAYLIGHT
BEGIN:STANDARD
TZOFFSETFROM:+0200
TZOFFSETTO:+0100
TZNAME:CET
DTSTART:20231029T010000
END:STANDARD
END:VTIMEZONE
BEGIN:VEVENT
DTSTART;TZID=Europe/Amsterdam:20220402T130000
DTEND;TZID=Europe/Amsterdam:20220403T170000
DTSTAMP:20260421T070613
CREATED:20220307T084937Z
LAST-MODIFIED:20220321T084325Z
UID:5214-1648904400-1649005200@cultureleraadsmilde.nl
SUMMARY:Expositie CoronaCreatief 2 en 3 april
DESCRIPTION:  \nExpositie CoronaCreatief georganiseerd door CRAS\n  \n  \nHet is zover! Van 26 maart t/m 3 april vindt er in de weekenden de expositie CoronaCreatief plaats waarin 22 Smildeger amateurkunstenaars laten zien hoe de Coronatijd hen inspireerde. \nMet de tentoonstelling wil CRAS tot uitdrukking brengen dat ondanks de moeilijke omstandigheden van de afgelopen jaren we doorgingen met (be)leven. Onmisbaar daarbij was de drang tot creativiteit. Misschien doen we dat wel meer in moeilijke tijden\, omdat dat troost \, vreugde en voldoening geeft. \nWij hopen dat in onze expositie tot uitdrukking komt dat kunst helpt om moeilijke tijden goed door te komen. De 22 deelnemende Smildeger amateurkunstenaars laten dat met  hun tentoongestelde werk in de expositie CoronaCreatief in ieder geval zien. \nGraag nodigen wij u van harte uit om deze expositie te bezoeken. \nDe opening van de tentoonstelling vindt plaats op 26 maart om 13.00 uur. \nWoordkunstenaar Delia Bremer zal de tentoonstelling openen met een introductie van de deelnemende kunstenaars en de kunstwerken. \nLaatste nieuws \n De cursisten van Janneke Boer schuiven aan bij de expositie “kunst in corona  tijd” van CRAS.  \n Toen de cursisten van Janneke Boer hoorden dat CRAS de expositie Corona-Creatief organiseerde\, besloten zij hierop aan te sluiten met hun cusrsusgroep. \nOok bij hen was de behoefte om iets te kunnen blijven doen in de tijd van de lockdown enorm. \nDaarom ging Janneke Boer als docent zoveel mogelijk door met les geven\, uiteraard binnen de gestelde coronaregels! \nVan de cursisten van Janneke van afgelopen 2 jaar doen er 14 mee aan de expositie. \nHet werk dat zij laten zien is tijdens coronatijd en in de lessen gemaakt.  \nEr wordt met verschillende materialen en technieken gewerkt. Potlood\, pastelpotloden\, krijt en acrylverf en olieverf.  Beginners en gevorderden zitten bij elkaar in de groep. De cursisten hebben gewerkt naar opdracht en/of maken vrij werk. \nDe openingstijden van de expositie CoronaCreatief  zijn op: \n26 en 27 maart van 13.00 – 17.00 uur2 en 3 april van 13.00 – 17.00 uur  \nIn het dorpshuis Smilde\, Beukenlaan 1 A
URL:https://cultureleraadsmilde.nl/event/expositie-coronacreatief-2-en-3-april/
LOCATION:Dorpshuis Smilde\, Beukenlaan 1A\, ingang Beukenlaan\, Smilde\, 9422ES\, Nederland
CATEGORIES:Overige activiteiten
ATTACH;FMTTYPE=image/jpeg:https://cultureleraadsmilde.nl/wp-content/uploads/2022/03/flyer-corona-expositie.jpg
ORGANIZER;CN="CRAS":MAILTO:info@cultureleraadsmilde.nl
END:VEVENT
BEGIN:VEVENT
DTSTART;TZID=Europe/Amsterdam:20220326T130000
DTEND;TZID=Europe/Amsterdam:20220327T170000
DTSTAMP:20260421T070613
CREATED:20220307T083826Z
LAST-MODIFIED:20220321T084138Z
UID:5205-1648299600-1648400400@cultureleraadsmilde.nl
SUMMARY:Expositie CoronaCreatief 26 en 27 maart
DESCRIPTION:  \nExpositie CoronaCreatief georganiseerd door CRAS\n  \n  \nHet is zover! Van 26 maart t/m 3 april vindt er in de weekenden de expositie CoronaCreatief plaats waarin 22 Smildeger amateurkunstenaars laten zien hoe de Coronatijd hen inspireerde. \nMet de tentoonstelling wil CRAS tot uitdrukking brengen dat ondanks de moeilijke omstandigheden van de afgelopen jaren we doorgingen met (be)leven. Onmisbaar daarbij was de drang tot creativiteit. Misschien doen we dat wel meer in moeilijke tijden\, omdat dat troost \, vreugde en voldoening geeft. \nWij hopen dat in onze expositie tot uitdrukking komt dat kunst helpt om moeilijke tijden goed door te komen. De 22 deelnemende Smildeger amateurkunstenaars laten dat met  hun tentoongestelde werk in de expositie CoronaCreatief in ieder geval zien. \nGraag nodigen wij u van harte uit om deze expositie te bezoeken. \nDe opening van de tentoonstelling vindt plaats op 26 maart om 13.00 uur. \nWoordkunstenaar Delia Bremer zal de tentoonstelling openen met een introductie van de deelnemende kunstenaars en de kunstwerken. \nLaatste nieuws \n De cursisten van Janneke Boer schuiven aan bij de expositie “kunst in corona  tijd” van CRAS.  \n Toen de cursisten van Janneke Boer hoorden dat CRAS de expositie Corona-Creatief organiseerde\, besloten zij hierop aan te sluiten met hun cusrsusgroep. \nOok bij hen was de behoefte om iets te kunnen blijven doen in de tijd van de lockdown enorm. \nDaarom ging Janneke Boer als docent zoveel mogelijk door met les geven\, uiteraard binnen de gestelde coronaregels! \nVan de cursisten van Janneke van afgelopen 2 jaar doen er 14 mee aan de expositie. \nHet werk dat zij laten zien is tijdens coronatijd en in de lessen gemaakt.  \nEr wordt met verschillende materialen en technieken gewerkt. Potlood\, pastelpotloden\, krijt en acrylverf en olieverf.  Beginners en gevorderden zitten bij elkaar in de groep. De cursisten hebben gewerkt naar opdracht en/of maken vrij werk. \nDe openingstijden van de expositie CoronaCreatief  zijn op: \n26 en 27 maart van 13.00 – 17.00 uur2 en 3 april van 13.00 – 17.00 uur  \nIn het dorpshuis Smilde\, Beukenlaan 1 A  \n​
URL:https://cultureleraadsmilde.nl/event/expositie-coronacreatief/
LOCATION:Dorpshuis Smilde\, Beukenlaan 1A\, ingang Beukenlaan\, Smilde\, 9422ES\, Nederland
CATEGORIES:Overige activiteiten
ATTACH;FMTTYPE=image/jpeg:https://cultureleraadsmilde.nl/wp-content/uploads/2022/03/flyer-corona-expositie.jpg
ORGANIZER;CN="CRAS":MAILTO:info@cultureleraadsmilde.nl
END:VEVENT
END:VCALENDAR