BEGIN:VCALENDAR
VERSION:2.0
PRODID:-//Culturele Raad Smilde - ECPv6.15.20//NONSGML v1.0//EN
CALSCALE:GREGORIAN
METHOD:PUBLISH
X-WR-CALNAME:Culturele Raad Smilde
X-ORIGINAL-URL:https://cultureleraadsmilde.nl
X-WR-CALDESC:Evenementen voor Culturele Raad Smilde
REFRESH-INTERVAL;VALUE=DURATION:PT1H
X-Robots-Tag:noindex
X-PUBLISHED-TTL:PT1H
BEGIN:VTIMEZONE
TZID:Europe/Amsterdam
BEGIN:DAYLIGHT
TZOFFSETFROM:+0100
TZOFFSETTO:+0200
TZNAME:CEST
DTSTART:20220327T010000
END:DAYLIGHT
BEGIN:STANDARD
TZOFFSETFROM:+0200
TZOFFSETTO:+0100
TZNAME:CET
DTSTART:20221030T010000
END:STANDARD
BEGIN:DAYLIGHT
TZOFFSETFROM:+0100
TZOFFSETTO:+0200
TZNAME:CEST
DTSTART:20230326T010000
END:DAYLIGHT
BEGIN:STANDARD
TZOFFSETFROM:+0200
TZOFFSETTO:+0100
TZNAME:CET
DTSTART:20231029T010000
END:STANDARD
BEGIN:DAYLIGHT
TZOFFSETFROM:+0100
TZOFFSETTO:+0200
TZNAME:CEST
DTSTART:20240331T010000
END:DAYLIGHT
BEGIN:STANDARD
TZOFFSETFROM:+0200
TZOFFSETTO:+0100
TZNAME:CET
DTSTART:20241027T010000
END:STANDARD
END:VTIMEZONE
BEGIN:VEVENT
DTSTART;TZID=Europe/Amsterdam:20231011T193000
DTEND;TZID=Europe/Amsterdam:20231011T220000
DTSTAMP:20260422T222349
CREATED:20230802T115640Z
LAST-MODIFIED:20231011T072348Z
UID:6313-1697052600-1697061600@cultureleraadsmilde.nl
SUMMARY:Lezing - Drents\, da's aandere taal
DESCRIPTION:Lezing ‘Drents\, da’s aandere taal’\, door Arja Olthof  \nGAAT NIET DOOR!\nDer was een tied dat er in oes laand niks aans as dialecten spreuken weur. Maor hoe zit het nou\, in dizze tied? Klopt het dat de Drentse taol familie van het Nederlaands is? En woj van plat praoten dom\, of juust loos? \nDat Drents praoten absoluut niet slim is\, daor zal Arja Olthof van streektaolorganisatie Huus van de Toal je over bijpraoten tiedens de lezing Drents\, da’s andere taolj. Ze vertelt hoe het zit met Drents as wereldtaol\, wat het Nedersaksisch precies is en hoeveel soorten Drents der bint. Allemaol vraogen die in dizze afwisselnde lezing op 11 oktober op de Smilde an bod zult komen. Tot slöt kuj in de kwis kieken oj je kennis ok echt bijspiekerd hebt.  \nDit evenement is al geweest. \n 
URL:https://cultureleraadsmilde.nl/event/lezing-drents-das-aandere-taal/
LOCATION:Bibliotheek Smilde\, Kon. Julianastraat 65\, Smilde\, 9422 HL\, Nederland
CATEGORIES:Lezingen
ATTACH;FMTTYPE=image/jpeg:https://cultureleraadsmilde.nl/wp-content/uploads/2023/08/huusvandetoaldrents.jpg
ORGANIZER;CN="Cras en Bibliotheek Smilde":MAILTO:info@cultureleraadsmilde.nl
END:VEVENT
END:VCALENDAR