BEGIN:VCALENDAR
VERSION:2.0
PRODID:-//Culturele Raad Smilde - ECPv6.15.20//NONSGML v1.0//EN
CALSCALE:GREGORIAN
METHOD:PUBLISH
X-ORIGINAL-URL:https://cultureleraadsmilde.nl
X-WR-CALDESC:Evenementen voor Culturele Raad Smilde
REFRESH-INTERVAL;VALUE=DURATION:PT1H
X-Robots-Tag:noindex
X-PUBLISHED-TTL:PT1H
BEGIN:VTIMEZONE
TZID:Europe/Amsterdam
BEGIN:DAYLIGHT
TZOFFSETFROM:+0100
TZOFFSETTO:+0200
TZNAME:CEST
DTSTART:20220327T010000
END:DAYLIGHT
BEGIN:STANDARD
TZOFFSETFROM:+0200
TZOFFSETTO:+0100
TZNAME:CET
DTSTART:20221030T010000
END:STANDARD
BEGIN:DAYLIGHT
TZOFFSETFROM:+0100
TZOFFSETTO:+0200
TZNAME:CEST
DTSTART:20230326T010000
END:DAYLIGHT
BEGIN:STANDARD
TZOFFSETFROM:+0200
TZOFFSETTO:+0100
TZNAME:CET
DTSTART:20231029T010000
END:STANDARD
BEGIN:DAYLIGHT
TZOFFSETFROM:+0100
TZOFFSETTO:+0200
TZNAME:CEST
DTSTART:20240331T010000
END:DAYLIGHT
BEGIN:STANDARD
TZOFFSETFROM:+0200
TZOFFSETTO:+0100
TZNAME:CET
DTSTART:20241027T010000
END:STANDARD
END:VTIMEZONE
BEGIN:VEVENT
DTSTART;TZID=Europe/Amsterdam:20231115T193000
DTEND;TZID=Europe/Amsterdam:20231115T220000
DTSTAMP:20260422T191132
CREATED:20230802T121146Z
LAST-MODIFIED:20231116T124555Z
UID:6323-1700076600-1700085600@cultureleraadsmilde.nl
SUMMARY:Lezing - Op reis met Vincent van Gogh in Drenthe
DESCRIPTION:Lezing “Op reis met Vincent van Gogh in Drenthe” door Margaret Breukink \nIn 1883 zwierf Van Gogh door Drenthe en voor het eerst is deze periode uit zijn werk het onderwerp van een tentoonstelling in het Drents Museum. Kunsthistorica Margaret Breukink zal een lezing geven over Van Goghs tijd in Drenthe.  \nOp dinsdag 11 september 1883 – dit jaar precies 140 jaar geleden – stapt Vincent van Gogh (1853-1890) op de laatste trein van Den Haag naar Drenthe. Hij verblijft enkele weken in Hoogeveen en trekt vervolgens naar Nieuw-Amsterdam en Veenoord waar hij onder meer De Turfschuit en Onkruid verbrandende boer schildert. Ook maakt hij een dagtrip naar Zweeloo. Uit zijn brieven blijkt dat hij tijdens zijn verblijf een groot aantal werken maakte\, maar het merendeel daarvan is verloren gegaan. \nDatum    : 15 november 2023Dit evenement is al geweest. Bekijk onze actuele evenementenagenda. \n 
URL:https://cultureleraadsmilde.nl/event/lezing-op-reis-met-vincent-van-gogh-in-drenthe/
LOCATION:Bibliotheek Smilde\, Kon. Julianastraat 65\, Smilde\, 9422 HL\, Nederland
CATEGORIES:Lezingen
ATTACH;FMTTYPE=image/jpeg:https://cultureleraadsmilde.nl/wp-content/uploads/2023/08/LR-Vincent-Van-Gogh_De-Turfschuit_collectie-Drents-Museum_foto-JAV-Studio-s.jpg
ORGANIZER;CN="Cras en Bibliotheek Smilde":MAILTO:info@cultureleraadsmilde.nl
END:VEVENT
END:VCALENDAR