BEGIN:VCALENDAR
VERSION:2.0
PRODID:-//Culturele Raad Smilde - ECPv6.15.20//NONSGML v1.0//EN
CALSCALE:GREGORIAN
METHOD:PUBLISH
X-ORIGINAL-URL:https://cultureleraadsmilde.nl
X-WR-CALDESC:Evenementen voor Culturele Raad Smilde
REFRESH-INTERVAL;VALUE=DURATION:PT1H
X-Robots-Tag:noindex
X-PUBLISHED-TTL:PT1H
BEGIN:VTIMEZONE
TZID:Europe/Amsterdam
BEGIN:DAYLIGHT
TZOFFSETFROM:+0100
TZOFFSETTO:+0200
TZNAME:CEST
DTSTART:20230326T010000
END:DAYLIGHT
BEGIN:STANDARD
TZOFFSETFROM:+0200
TZOFFSETTO:+0100
TZNAME:CET
DTSTART:20231029T010000
END:STANDARD
BEGIN:DAYLIGHT
TZOFFSETFROM:+0100
TZOFFSETTO:+0200
TZNAME:CEST
DTSTART:20240331T010000
END:DAYLIGHT
BEGIN:STANDARD
TZOFFSETFROM:+0200
TZOFFSETTO:+0100
TZNAME:CET
DTSTART:20241027T010000
END:STANDARD
BEGIN:DAYLIGHT
TZOFFSETFROM:+0100
TZOFFSETTO:+0200
TZNAME:CEST
DTSTART:20250330T010000
END:DAYLIGHT
BEGIN:STANDARD
TZOFFSETFROM:+0200
TZOFFSETTO:+0100
TZNAME:CET
DTSTART:20251026T010000
END:STANDARD
END:VTIMEZONE
BEGIN:VEVENT
DTSTART;TZID=Europe/Amsterdam:20240925T193000
DTEND;TZID=Europe/Amsterdam:20240925T220000
DTSTAMP:20260420T193344
CREATED:20240710T065245Z
LAST-MODIFIED:20240909T183624Z
UID:7083-1727292600-1727301600@cultureleraadsmilde.nl
SUMMARY:Lezing - Hoe kies je een goed kinderboek
DESCRIPTION:Vooruitlopend op de Kinderboekenweek (vanaf 2 oktober) organiseert CRAS\, in samenwerking met de bibliotheek\, een informatieve avond over kinderboeken in de basisschoolleeftijd. \nNamens de bibliotheek komt Annet Krol een lezing geven over allerlei zaken waar je bij de keuze van een kinderboek op zou kunnen letten. Ook zal zij diverse boeken tonen en uitleggen welke aspecten nu juist zo belangrijk zijn\, of gewoon LEUK! \n​Datum    : 25 september 2024Tijd         : 19.30 uurPlaats     : Bibliotheek SmildeEntree     : GratisOpgave   : via onderstaand knop \n  \n			\n				Aanmelden
URL:https://cultureleraadsmilde.nl/event/lezing-hoe-kies-je-een-goed-kinderboek/
LOCATION:Bibliotheek Smilde\, Kon. Julianastraat 65\, Smilde\, 9422 HL\, Nederland
CATEGORIES:Lezingen
ATTACH;FMTTYPE=image/jpeg:https://cultureleraadsmilde.nl/wp-content/uploads/2024/07/lezing-hoe-kies-je-een-goed-kinderboek.jpg
ORGANIZER;CN="Cras en Bibliotheek Smilde":MAILTO:info@cultureleraadsmilde.nl
END:VEVENT
END:VCALENDAR