BEGIN:VCALENDAR
VERSION:2.0
PRODID:-//Culturele Raad Smilde - ECPv6.15.20//NONSGML v1.0//EN
CALSCALE:GREGORIAN
METHOD:PUBLISH
X-WR-CALNAME:Culturele Raad Smilde
X-ORIGINAL-URL:https://cultureleraadsmilde.nl
X-WR-CALDESC:Evenementen voor Culturele Raad Smilde
REFRESH-INTERVAL;VALUE=DURATION:PT1H
X-Robots-Tag:noindex
X-PUBLISHED-TTL:PT1H
BEGIN:VTIMEZONE
TZID:Europe/Amsterdam
BEGIN:DAYLIGHT
TZOFFSETFROM:+0100
TZOFFSETTO:+0200
TZNAME:CEST
DTSTART:20240331T010000
END:DAYLIGHT
BEGIN:STANDARD
TZOFFSETFROM:+0200
TZOFFSETTO:+0100
TZNAME:CET
DTSTART:20241027T010000
END:STANDARD
BEGIN:DAYLIGHT
TZOFFSETFROM:+0100
TZOFFSETTO:+0200
TZNAME:CEST
DTSTART:20250330T010000
END:DAYLIGHT
BEGIN:STANDARD
TZOFFSETFROM:+0200
TZOFFSETTO:+0100
TZNAME:CET
DTSTART:20251026T010000
END:STANDARD
BEGIN:DAYLIGHT
TZOFFSETFROM:+0100
TZOFFSETTO:+0200
TZNAME:CEST
DTSTART:20260329T010000
END:DAYLIGHT
BEGIN:STANDARD
TZOFFSETFROM:+0200
TZOFFSETTO:+0100
TZNAME:CET
DTSTART:20261025T010000
END:STANDARD
END:VTIMEZONE
BEGIN:VEVENT
DTSTART;TZID=Europe/Amsterdam:20251008T193000
DTEND;TZID=Europe/Amsterdam:20251008T220000
DTSTAMP:20260420T163504
CREATED:20250821T144524Z
LAST-MODIFIED:20250821T150542Z
UID:7651-1759951800-1759960800@cultureleraadsmilde.nl
SUMMARY:Cinebieb - Conclave
DESCRIPTION:Conclave is een Brits-Amerikaanse politieke psychologische thriller uit 2024\, die zich volledig afspeelt in het Vaticaan \nDe film Conclave gaat over het geheime proces van het conclaaf waarbij kardinalen een nieuwe paus kiezen na de dood van de vorige. \nDe film volgt Kardinaal Lawrence (gespeeld door Ralph Fiennes)\, die de leiding heeft over de verkiezing\, maar te maken krijgt met interne politieke strijd\, corruptie\, samenzweringen en persoonlijke geheimen die zich achter de muren van het Vaticaan afspelen. \nHet verhaal is gebaseerd op de gelijknamige roman van Robert Harris en verkent de machtsstrijd en ideologische verdeeldheid binnen de Katholieke Kerk\, net als tijdens de verkiezing van een nieuwe paus. \nDatum    : 8 oktober 2025Tijd         : 19:30 uurPlaats     : MFA de Spil in BovensmildeEntree    : € 8\,50 inclusief koffie\, hapje en drankje \nAanmelden via :  via onderstaande knop \n  \n \n			\n				Aanmelden
URL:https://cultureleraadsmilde.nl/event/cinebieb-conclave/
LOCATION:MFA De Spil Bovensmilde\, Floralaan 2\, Bovensmilde\, 9421 NN\, Nederland
CATEGORIES:Cinebieb
ATTACH;FMTTYPE=image/jpeg:https://cultureleraadsmilde.nl/wp-content/uploads/2025/08/film-conclave.jpg
ORGANIZER;CN="CRAS":MAILTO:info@cultureleraadsmilde.nl
END:VEVENT
BEGIN:VEVENT
DTSTART;TZID=Europe/Amsterdam:20251022T191500
DTEND;TZID=Europe/Amsterdam:20251022T220000
DTSTAMP:20260420T163504
CREATED:20250507T181115Z
LAST-MODIFIED:20251016T125054Z
UID:7557-1761160500-1761170400@cultureleraadsmilde.nl
SUMMARY:Film - Kleinkinderen van de Oost
DESCRIPTION:Daan en Joenoes treden in de voetsporen (in Indonesië) van het verleden om uit te zoeken wat het verleden voor de toekomst betekent. Een docufilm over leren omgaan met je verleden. \nIn Jim Taihuttu’s oorlogsdrama De Oost (2020) werd eindelijk kritisch gekeken naar de Nederlandse acties tijdens de Indonesische Onafhankelijkheidsoorlog (1945-1949). Voor de documentaire Kleinkinderen van De Oost keren Joenoes Polnaija (1989) en Daan van Citters (1992)\, twee acteurs uit De Oost\, terug naar Indonesië. \nDaans opa was commandant van de verkenningsbrigade\, en beide Molukse opa’s van Joenoes vochten als KNIL-soldaten aan de zijde van het Nederlandse leger. Joenoes en Daan werden vrienden op de set van De Oost\, hoorden van elkaars opa’s\, en herkenden in elkaar het intergenerationeel trauma waar ze allebei nog steeds mee worstelen. Het werd een emotionele en confronterende reis\, waarin vriendschap en vertrouwen centraal staan. \nDatum    : 22 oktober 2025Tijd         : 19:15 uur (Zaal open om 18:45 uur)Plaats     : MFA de Spil in BovensmildeEntree    : Gratis inclusief koffie en Moluks hapje. \nAanmelden via :  hkfbovensmilde@gmail.com \n  \n 
URL:https://cultureleraadsmilde.nl/event/film-kleinkinderen-van-de-oost/
LOCATION:MFA De Spil Bovensmilde\, Floralaan 2\, Bovensmilde\, 9421 NN\, Nederland
CATEGORIES:Cinebieb
ATTACH;FMTTYPE=image/jpeg:https://cultureleraadsmilde.nl/wp-content/uploads/2025/05/kleinkinderen-van-de-oost.jpg
END:VEVENT
END:VCALENDAR