BEGIN:VCALENDAR
VERSION:2.0
PRODID:-//Culturele Raad Smilde - ECPv6.15.20//NONSGML v1.0//EN
CALSCALE:GREGORIAN
METHOD:PUBLISH
X-ORIGINAL-URL:https://cultureleraadsmilde.nl
X-WR-CALDESC:Evenementen voor Culturele Raad Smilde
REFRESH-INTERVAL;VALUE=DURATION:PT1H
X-Robots-Tag:noindex
X-PUBLISHED-TTL:PT1H
BEGIN:VTIMEZONE
TZID:Europe/Amsterdam
BEGIN:DAYLIGHT
TZOFFSETFROM:+0100
TZOFFSETTO:+0200
TZNAME:CEST
DTSTART:20250330T010000
END:DAYLIGHT
BEGIN:STANDARD
TZOFFSETFROM:+0200
TZOFFSETTO:+0100
TZNAME:CET
DTSTART:20251026T010000
END:STANDARD
BEGIN:DAYLIGHT
TZOFFSETFROM:+0100
TZOFFSETTO:+0200
TZNAME:CEST
DTSTART:20260329T010000
END:DAYLIGHT
BEGIN:STANDARD
TZOFFSETFROM:+0200
TZOFFSETTO:+0100
TZNAME:CET
DTSTART:20261025T010000
END:STANDARD
BEGIN:DAYLIGHT
TZOFFSETFROM:+0100
TZOFFSETTO:+0200
TZNAME:CEST
DTSTART:20270328T010000
END:DAYLIGHT
BEGIN:STANDARD
TZOFFSETFROM:+0200
TZOFFSETTO:+0100
TZNAME:CET
DTSTART:20271031T010000
END:STANDARD
END:VTIMEZONE
BEGIN:VEVENT
DTSTART;TZID=Europe/Amsterdam:20260408T193000
DTEND;TZID=Europe/Amsterdam:20260408T220000
DTSTAMP:20260420T215253
CREATED:20260302T124850Z
LAST-MODIFIED:20260302T125005Z
UID:8000-1775676600-1775685600@cultureleraadsmilde.nl
SUMMARY:Cinebieb - Bovensmilde Vroeger
DESCRIPTION:Foto’s en films van ons dorp in vroeger tijden. \nGepresenteerd door Folkert Frieszo \n  \nDatum    : 8 april 2026Tijd         : 19:30 uurPlaats     : MFA de Spil in BovensmildeEntree    : € 7\,50 inclusief koffie\, hapje en drankje \nAanmelden via :  via onderstaande knop \n  \n \n			\n				Aanmelden
URL:https://cultureleraadsmilde.nl/event/cinebieb-bovensmilde-vroeger/
LOCATION:MFA De Spil Bovensmilde\, Floralaan 2\, Bovensmilde\, 9421 NN\, Nederland
CATEGORIES:Cinebieb
ATTACH;FMTTYPE=image/jpeg:https://cultureleraadsmilde.nl/wp-content/uploads/2026/03/Bovensmilde-vroeger.jpg
ORGANIZER;CN="Cras en Bibliotheek Smilde":MAILTO:info@cultureleraadsmilde.nl
END:VEVENT
BEGIN:VEVENT
DTSTART;TZID=Europe/Amsterdam:20260415T193000
DTEND;TZID=Europe/Amsterdam:20260415T220000
DTSTAMP:20260420T215253
CREATED:20260310T132733Z
LAST-MODIFIED:20260310T132816Z
UID:8025-1776281400-1776290400@cultureleraadsmilde.nl
SUMMARY:Cinebieb - Voor de meisjes
DESCRIPTION:In Voor de meisjes ontspoort de vriendschap tussen twee gezinnen na een ingrijpend ongeluk. Critici prijzen de balans tussen zwarte humor en drama\, maar vooral ook de acteerprestaties. Ze roemen de hoofdrolspelers unaniem om hun meeslepende en trefzekere vertolkingen. \nTwee bevriende stellen delen al jaren een vakantiehuis in de Oostenrijkse Alpen. Wanneer hun puberdochters tijdens een gezamenlijke vakantie betrokken raken bij een ongeluk brokkelt de ogenschijnlijke vriendschap in rap tempo af. Oud zeer en opgekropte frustraties drijven de ouders steeds verder uit elkaar. Ze horen dat een dochter kan worden gered maar alleen allen als het andere meisje wordt opgegeven. \nWat begint als een moreel dilemma\, ontaardt in een absurde strijd vol manipulaties en wanhopige acties waarbij de fatsoen grenzen verder vervagen. Want als het om je kind gaat is alles toegestaan toch? \n Voor de meisjes is de nieuwe film van Oscarwinnend regisseur Mike van Diem \nVoor de meisjes – trailer \nDatum    : 15 april 2026Tijd         : 19:30 uurPlaats     : MFA de Spil in BovensmildeEntree    : € 8\,50 inclusief koffie\, hapje en drankje \nAanmelden via :  via onderstaande knop \n  \n \n			\n				Aanmelden
URL:https://cultureleraadsmilde.nl/event/cinebieb-voor-de-meisjes/
LOCATION:MFA De Spil Bovensmilde\, Floralaan 2\, Bovensmilde\, 9421 NN\, Nederland
CATEGORIES:Cinebieb
ATTACH;FMTTYPE=image/jpeg:https://cultureleraadsmilde.nl/wp-content/uploads/2026/03/film-poster-voor-de-meisjes.jpg
ORGANIZER;CN="Cras en Bibliotheek Smilde":MAILTO:info@cultureleraadsmilde.nl
END:VEVENT
BEGIN:VEVENT
DTSTART;TZID=Europe/Amsterdam:20260513T193000
DTEND;TZID=Europe/Amsterdam:20260513T220000
DTSTAMP:20260420T215253
CREATED:20260331T145538Z
LAST-MODIFIED:20260416T093011Z
UID:8049-1778700600-1778709600@cultureleraadsmilde.nl
SUMMARY:Cinebieb -  The Salt Path
DESCRIPTION:The Salt Path is een heel rustige film over een koppel dat alles verliest en hun toevlucht zoeken in het maken van een wandeling over het eeuwenoude South West Coast Path te lopen. \nHet stel Ray en Moth zijn dakloos nadat ze hun woning verliezen. Amper enkele dagen later vernemen ze dat Moth een terminale ziekte heeft. Ze besluiten samen een jaar lang een tocht te maken langs de kust en volgen hierbij het langste wandelpad van Engeland dat hen van Dorseth naar Somerseth brengt\, in de hoop dat de Engelse natuur hen troost kan bieden \nIn de geslaagde verfilming van Het zoutpad wordt nauwelijks gesproken \nVPRO Cinema: Mooi\, inspirerend en hoopgevend\n \nThe Salt Path – trailer \nDatum    : 13 mei 2026Tijd         : 19:30 uurPlaats     : MFA de Spil in BovensmildeEntree    : € 8\,50 inclusief koffie\, hapje en drankje \nAanmelden via :  via onderstaande knop \n  \n \n			\n				Aanmelden
URL:https://cultureleraadsmilde.nl/event/cinebieb-the-salt-path/
LOCATION:MFA De Spil Bovensmilde\, Floralaan 2\, Bovensmilde\, 9421 NN\, Nederland
CATEGORIES:Cinebieb
ATTACH;FMTTYPE=image/jpeg:https://cultureleraadsmilde.nl/wp-content/uploads/2026/03/filmposter-the-salt-path-staand.jpg
ORGANIZER;CN="Cras en Bibliotheek Smilde":MAILTO:info@cultureleraadsmilde.nl
END:VEVENT
END:VCALENDAR